BEGIN:VCALENDAR
PRODID:-//Pixl8//Eventfolio//EN
VERSION:2.0
X-WR-TIMEZONE:Europe/London
CALSCALE:GREGORIAN
METHOD:PUBLISH
CLASS:PUBLIC
BEGIN:VTIMEZONE
TZID:Europe/London
LAST-MODIFIED:20260306T231828Z
TZURL:https://www.tzurl.org/zoneinfo-outlook/Europe/London
X-LIC-LOCATION:Europe/London
BEGIN:DAYLIGHT
TZNAME:BST
TZOFFSETFROM:+0000
TZOFFSETTO:+0100
DTSTART:19700329T010000
RRULE:FREQ=YEARLY;BYMONTH=3;BYDAY=-1SU
END:DAYLIGHT
BEGIN:STANDARD
TZNAME:GMT
TZOFFSETFROM:+0100
TZOFFSETTO:+0000
DTSTART:19701025T020000
RRULE:FREQ=YEARLY;BYMONTH=10;BYDAY=-1SU
END:STANDARD
END:VTIMEZONE
BEGIN:VEVENT
DTSTART;TZID=Europe/London:20251203T100000
DTEND;TZID=Europe/London:20251203T104500
DTSTAMP:20260424T072555Z
UID:{1B9919CE-0ED4-4591-9BC70BBB4AAC9569}
LOCATION:
SUMMARY:Discover GweGwe Beach Lodge on South Africa’s Wild Coast
DESCRIPTION:Join us for an inside look at GweGwe Beach Lodge, a groundbreaking new property redefining sustainable luxury travel on South Africa’s Wild Coast.\n
 \n
 Event details: https://atta.travel/events/ems-events-calendar/discover-gwegwe-beach-lodge-on-south-africa-s-wild-coast.html
PRIORITY:1
END:VEVENT
END:VCALENDAR