BEGIN:VCALENDAR
PRODID:-//Pixl8//Eventfolio//EN
VERSION:2.0
X-WR-TIMEZONE:Asia/Shanghai
CALSCALE:GREGORIAN
METHOD:PUBLISH
CLASS:PUBLIC
BEGIN:VTIMEZONE
TZID:Asia/Shanghai
LAST-MODIFIED:20260306T231828Z
TZURL:https://www.tzurl.org/zoneinfo-outlook/Asia/Shanghai
X-LIC-LOCATION:Asia/Shanghai
BEGIN:STANDARD
TZNAME:CST
TZOFFSETFROM:+0800
TZOFFSETTO:+0800
DTSTART:19700101T000000
END:STANDARD
END:VTIMEZONE
BEGIN:VEVENT
DTSTART;TZID=Asia/Shanghai:20231116T160000
DTEND;TZID=Asia/Shanghai:20231116T190000
DTSTAMP:20260423T184704Z
UID:{E9607000-0BBF-45BF-ABFF9749A5B6593A}
LOCATION:National Agricultural Exhibition Centre\, Conference Room of No. 11 Exhibition Hall\, 16\, 3rd Ring Road East\, Chaoyang District
SUMMARY:COTTM Networking
DESCRIPTION:At the mid point of the COTTM show in Beijing, please join us for a networking event, onsite at the National Agricultural Exhibition Centre.\n
 \n
 Event details: https://atta.travel/events/ems-events-calendar/cottm-networking.html
PRIORITY:1
END:VEVENT
END:VCALENDAR