BEGIN:VCALENDAR
PRODID:-//Pixl8//Eventfolio//EN
VERSION:2.0
X-WR-TIMEZONE:Europe/London
CALSCALE:GREGORIAN
METHOD:PUBLISH
CLASS:PUBLIC
BEGIN:VTIMEZONE
TZID:Europe/London
LAST-MODIFIED:20260306T231828Z
TZURL:https://www.tzurl.org/zoneinfo-outlook/Europe/London
X-LIC-LOCATION:Europe/London
BEGIN:DAYLIGHT
TZNAME:BST
TZOFFSETFROM:+0000
TZOFFSETTO:+0100
DTSTART:19700329T010000
RRULE:FREQ=YEARLY;BYMONTH=3;BYDAY=-1SU
END:DAYLIGHT
BEGIN:STANDARD
TZNAME:GMT
TZOFFSETFROM:+0100
TZOFFSETTO:+0000
DTSTART:19701025T020000
RRULE:FREQ=YEARLY;BYMONTH=10;BYDAY=-1SU
END:STANDARD
END:VTIMEZONE
BEGIN:VEVENT
DTSTART;TZID=Europe/London:20251113T140000
DTEND;TZID=Europe/London:20251113T144500
DTSTAMP:20260425T200342Z
UID:{F5E55830-5E8E-4A77-A16278CE576CE720}
LOCATION:
SUMMARY:Contemporary Sophistication & Safari, Courtesy of Cheetah Plains
DESCRIPTION:Join us for an exclusive webinar with luxury safari leaders, Cheetah Plains, as we explore how refined design and cutting-edge sustainability redefine the modern safari experience.\n
 \n
 Event details: https://atta.travel/events/ems-events-calendar/contemporary-sophistication-safari-courtesy-of-cheetah-plains.html
PRIORITY:1
END:VEVENT
END:VCALENDAR