BEGIN:VCALENDAR
PRODID:-//Pixl8//Eventfolio//EN
VERSION:2.0
X-WR-TIMEZONE:Europe/London
CALSCALE:GREGORIAN
METHOD:PUBLISH
CLASS:PUBLIC
BEGIN:VTIMEZONE
TZID:Europe/London
LAST-MODIFIED:20260306T231828Z
TZURL:https://www.tzurl.org/zoneinfo-outlook/Europe/London
X-LIC-LOCATION:Europe/London
BEGIN:DAYLIGHT
TZNAME:BST
TZOFFSETFROM:+0000
TZOFFSETTO:+0100
DTSTART:19700329T010000
RRULE:FREQ=YEARLY;BYMONTH=3;BYDAY=-1SU
END:DAYLIGHT
BEGIN:STANDARD
TZNAME:GMT
TZOFFSETFROM:+0100
TZOFFSETTO:+0000
DTSTART:19701025T020000
RRULE:FREQ=YEARLY;BYMONTH=10;BYDAY=-1SU
END:STANDARD
END:VTIMEZONE
BEGIN:VEVENT
DTSTART;TZID=Europe/London;VALUE=DATE:20230418
DTEND;TZID=Europe/London;VALUE=DATE:20230419
DTSTAMP:20260423T142307Z
UID:{0B35625C-F076-4D9C-B4A63EC61F7D70DD}
LOCATION:Malmaison Cheltenham\, Bayshill Road\, Cheltenham\, GL50 3AS
SUMMARY:Cheltenham Trade Dinner
DESCRIPTION:Join us in Cheltenham for our first trade dinner of the year and one of a series of three to be held this week. Whether a supplier presenting or a tour operator attending we would love to see you there.\n
 \n
 Event details: https://atta.travel/events/ems-events-calendar/cheltenham-trade-dinner-23.html
PRIORITY:1
END:VEVENT
END:VCALENDAR