BEGIN:VCALENDAR
PRODID:-//Pixl8//Eventfolio//EN
VERSION:2.0
X-WR-TIMEZONE:Europe/London
CALSCALE:GREGORIAN
METHOD:PUBLISH
CLASS:PUBLIC
BEGIN:VTIMEZONE
TZID:Europe/London
LAST-MODIFIED:20260306T231828Z
TZURL:https://www.tzurl.org/zoneinfo-outlook/Europe/London
X-LIC-LOCATION:Europe/London
BEGIN:DAYLIGHT
TZNAME:BST
TZOFFSETFROM:+0000
TZOFFSETTO:+0100
DTSTART:19700329T010000
RRULE:FREQ=YEARLY;BYMONTH=3;BYDAY=-1SU
END:DAYLIGHT
BEGIN:STANDARD
TZNAME:GMT
TZOFFSETFROM:+0100
TZOFFSETTO:+0000
DTSTART:19701025T020000
RRULE:FREQ=YEARLY;BYMONTH=10;BYDAY=-1SU
END:STANDARD
END:VTIMEZONE
BEGIN:VEVENT
DTSTART;TZID=Europe/London:20250528T100000
DTEND;TZID=Europe/London:20250528T104500
DTSTAMP:20260425T200315Z
UID:{A5F3C96E-63E4-483A-85D3B4AE361535AA}
LOCATION:
SUMMARY:Boschendal – The farm with a purpose – regenerating the future
DESCRIPTION:At Boschendal, we believe luxury is about the gift of time—time to pause, to connect, and to embrace the simple joys of life.\n
 \n
 Event details: https://atta.travel/events/ems-events-calendar/boschendal-the-farm-with-a-purpose-regenerating-the-future2.html
PRIORITY:1
END:VEVENT
END:VCALENDAR