BEGIN:VCALENDAR
PRODID:-//Pixl8//Eventfolio//EN
VERSION:2.0
X-WR-TIMEZONE:Europe/London
CALSCALE:GREGORIAN
METHOD:PUBLISH
CLASS:PUBLIC
BEGIN:VTIMEZONE
TZID:Europe/London
LAST-MODIFIED:20260306T231828Z
TZURL:https://www.tzurl.org/zoneinfo-outlook/Europe/London
X-LIC-LOCATION:Europe/London
BEGIN:DAYLIGHT
TZNAME:BST
TZOFFSETFROM:+0000
TZOFFSETTO:+0100
DTSTART:19700329T010000
RRULE:FREQ=YEARLY;BYMONTH=3;BYDAY=-1SU
END:DAYLIGHT
BEGIN:STANDARD
TZNAME:GMT
TZOFFSETFROM:+0100
TZOFFSETTO:+0000
DTSTART:19701025T020000
RRULE:FREQ=YEARLY;BYMONTH=10;BYDAY=-1SU
END:STANDARD
END:VTIMEZONE
BEGIN:VEVENT
DTSTART;TZID=Europe/London:20250123T140000
DTEND;TZID=Europe/London:20250123T150000
DTSTAMP:20260424T201427Z
UID:{D3D8CB5E-909D-4E36-905D9E2CA1F0D981}
LOCATION:
SUMMARY:Atua Enkop Africa - Affordable Kenya Luxury
DESCRIPTION:An exclusive showcase of the ATUA ENKOP properties – both the familiar and the new!\n
 \n
 Event details: https://atta.travel/events/ems-events-calendar/atua-enkop-africa-affordable-kenya-luxury.html
PRIORITY:1
END:VEVENT
END:VCALENDAR