BEGIN:VCALENDAR
PRODID:-//Pixl8//Eventfolio//EN
VERSION:2.0
X-WR-TIMEZONE:Europe/London
CALSCALE:GREGORIAN
METHOD:PUBLISH
CLASS:PUBLIC
BEGIN:VTIMEZONE
TZID:Europe/London
LAST-MODIFIED:20260306T231828Z
TZURL:https://www.tzurl.org/zoneinfo-outlook/Europe/London
X-LIC-LOCATION:Europe/London
BEGIN:DAYLIGHT
TZNAME:BST
TZOFFSETFROM:+0000
TZOFFSETTO:+0100
DTSTART:19700329T010000
RRULE:FREQ=YEARLY;BYMONTH=3;BYDAY=-1SU
END:DAYLIGHT
BEGIN:STANDARD
TZNAME:GMT
TZOFFSETFROM:+0100
TZOFFSETTO:+0000
DTSTART:19701025T020000
RRULE:FREQ=YEARLY;BYMONTH=10;BYDAY=-1SU
END:STANDARD
END:VTIMEZONE
BEGIN:VEVENT
DTSTART;TZID=Europe/London;VALUE=DATE:20220720
DTEND;TZID=Europe/London;VALUE=DATE:20220721
DTSTAMP:20260425T200343Z
UID:{49732E29-1A16-4D15-8303119C3873FBD4}
LOCATION:Cape Town International Convention Centre\, Convention Square\, 1 Lower Long Street\, Cape Town 8001
SUMMARY:ATTA® Webinar - Immerse into Kenya through the lens of SKYIN 
DESCRIPTION:teaser here\n
 \n
 Event details: https://atta.travel/events/ems-events-calendar/atta-webinar-immerse-into-kenya-through-the-lens-of-skyin.html
PRIORITY:1
END:VEVENT
END:VCALENDAR