BEGIN:VCALENDAR
PRODID:-//Pixl8//Eventfolio//EN
VERSION:2.0
X-WR-TIMEZONE:Europe/London
CALSCALE:GREGORIAN
METHOD:PUBLISH
CLASS:PUBLIC
BEGIN:VTIMEZONE
TZID:Europe/London
LAST-MODIFIED:20260306T231828Z
TZURL:https://www.tzurl.org/zoneinfo-outlook/Europe/London
X-LIC-LOCATION:Europe/London
BEGIN:DAYLIGHT
TZNAME:BST
TZOFFSETFROM:+0000
TZOFFSETTO:+0100
DTSTART:19700329T010000
RRULE:FREQ=YEARLY;BYMONTH=3;BYDAY=-1SU
END:DAYLIGHT
BEGIN:STANDARD
TZNAME:GMT
TZOFFSETFROM:+0100
TZOFFSETTO:+0000
DTSTART:19701025T020000
RRULE:FREQ=YEARLY;BYMONTH=10;BYDAY=-1SU
END:STANDARD
END:VTIMEZONE
BEGIN:VEVENT
DTSTART;TZID=Europe/London:20250624T180000
DTEND;TZID=Europe/London:20250624T220000
DTSTAMP:20260424T015539Z
UID:{EF087653-5110-42E6-B5DCA4F3FEB58151}
LOCATION:Devonshire Terrace\, Devonshire Square\, London EC2M 4WY
SUMMARY:ATTA Summer Party
DESCRIPTION:Join us for the ATTA Summer Party with South African Tourism on the second evening of Experience Africa\n
 \n
 Event details: https://atta.travel/events/ems-events-calendar/atta-summer-party.html
PRIORITY:1
END:VEVENT
END:VCALENDAR