BEGIN:VCALENDAR
PRODID:-//Pixl8//Eventfolio//EN
VERSION:2.0
X-WR-TIMEZONE:Europe/London
CALSCALE:GREGORIAN
METHOD:PUBLISH
CLASS:PUBLIC
BEGIN:VTIMEZONE
TZID:Europe/London
LAST-MODIFIED:20260306T231828Z
TZURL:https://www.tzurl.org/zoneinfo-outlook/Europe/London
X-LIC-LOCATION:Europe/London
BEGIN:DAYLIGHT
TZNAME:BST
TZOFFSETFROM:+0000
TZOFFSETTO:+0100
DTSTART:19700329T010000
RRULE:FREQ=YEARLY;BYMONTH=3;BYDAY=-1SU
END:DAYLIGHT
BEGIN:STANDARD
TZNAME:GMT
TZOFFSETFROM:+0100
TZOFFSETTO:+0000
DTSTART:19701025T020000
RRULE:FREQ=YEARLY;BYMONTH=10;BYDAY=-1SU
END:STANDARD
END:VTIMEZONE
BEGIN:VEVENT
DTSTART;TZID=Europe/London:20240319T130000
DTEND;TZID=Europe/London:20240319T140000
DTSTAMP:20260423T230451Z
UID:{F0C491F1-B638-434C-8F11CB0D3DC6C23E}
LOCATION:
SUMMARY:ATTA® for Action Members Webinar: Connect, Learn, and Grow Together
DESCRIPTION:You are specially invited for this closed group webinar, exclusively designed for ATTA® for Action members.\n
 \n
 Event details: https://atta.travel/events/ems-events-calendar/atta-for-action-members-webinar-connect-learn-and-grow-together.html
PRIORITY:1
END:VEVENT
END:VCALENDAR