BEGIN:VCALENDAR
PRODID:-//Pixl8//Eventfolio//EN
VERSION:2.0
X-WR-TIMEZONE:Africa/Johannesburg
CALSCALE:GREGORIAN
METHOD:PUBLISH
CLASS:PUBLIC
BEGIN:VTIMEZONE
TZID:Africa/Johannesburg
LAST-MODIFIED:20260306T231828Z
TZURL:https://www.tzurl.org/zoneinfo-outlook/Africa/Johannesburg
X-LIC-LOCATION:Africa/Johannesburg
BEGIN:STANDARD
TZNAME:SAST
TZOFFSETFROM:+0200
TZOFFSETTO:+0200
DTSTART:19700101T000000
END:STANDARD
END:VTIMEZONE
BEGIN:VEVENT
DTSTART;TZID=Africa/Johannesburg:20230803T170000
DTEND;TZID=Africa/Johannesburg:20230803T210000
DTSTAMP:20260424T052452Z
UID:{D192AC9D-3432-4BEC-9BCE4862CE57C99B}
LOCATION:The Bailey\, 91 Bree Street\, across from Heritage Square
SUMMARY:ATTA Evolution - Connecting through conversation
DESCRIPTION:Join us for a captivating evening where industry leaders will engage in sharing their experience and vision for success, as the global industry builds-back with a focus on responsible tourism\n
 \n
 Event details: https://atta.travel/events/ems-events-calendar/atta-evolution-connecting-through-conversation.html
PRIORITY:1
END:VEVENT
END:VCALENDAR