BEGIN:VCALENDAR
PRODID:-//Pixl8//Eventfolio//EN
VERSION:2.0
X-WR-TIMEZONE:Africa/Nairobi
CALSCALE:GREGORIAN
METHOD:PUBLISH
CLASS:PUBLIC
BEGIN:VTIMEZONE
TZID:Africa/Nairobi
LAST-MODIFIED:20260306T231828Z
TZURL:https://www.tzurl.org/zoneinfo-outlook/Africa/Nairobi
X-LIC-LOCATION:Africa/Nairobi
BEGIN:STANDARD
TZNAME:EAT
TZOFFSETFROM:+0300
TZOFFSETTO:+0300
DTSTART:19700101T000000
END:STANDARD
END:VTIMEZONE
BEGIN:VEVENT
DTSTART;TZID=Africa/Nairobi:20231016T170000
DTEND;TZID=Africa/Nairobi:20231016T220000
DTSTAMP:20260424T005531Z
UID:{D07FC8CA-A4F8-41E0-9560027CF01D14CB}
LOCATION:Ethiopian Museum of Art and Science\, Emperor Menelik II Avenue\, 1170\, Addis Ababa
SUMMARY:ATTA / ETOA Networking Addis Ababa
DESCRIPTION:Join ATTA and ETOA (Ethiopian Tour Operators Association) for an evening of networking at our first ever event in Addis Ababa\n
 \n
 Event details: https://atta.travel/events/ems-events-calendar/atta-etoa-networking-addis-ababa.html
PRIORITY:1
END:VEVENT
END:VCALENDAR