BEGIN:VCALENDAR
PRODID:-//Pixl8//Eventfolio//EN
VERSION:2.0
X-WR-TIMEZONE:Europe/London
CALSCALE:GREGORIAN
METHOD:PUBLISH
CLASS:PUBLIC
BEGIN:VTIMEZONE
TZID:Europe/London
LAST-MODIFIED:20260306T231828Z
TZURL:https://www.tzurl.org/zoneinfo-outlook/Europe/London
X-LIC-LOCATION:Europe/London
BEGIN:DAYLIGHT
TZNAME:BST
TZOFFSETFROM:+0000
TZOFFSETTO:+0100
DTSTART:19700329T010000
RRULE:FREQ=YEARLY;BYMONTH=3;BYDAY=-1SU
END:DAYLIGHT
BEGIN:STANDARD
TZNAME:GMT
TZOFFSETFROM:+0100
TZOFFSETTO:+0000
DTSTART:19701025T020000
RRULE:FREQ=YEARLY;BYMONTH=10;BYDAY=-1SU
END:STANDARD
END:VTIMEZONE
BEGIN:VEVENT
DTSTART;TZID=Europe/London:20250807T140000
DTEND;TZID=Europe/London:20250807T144500
DTSTAMP:20260423T230501Z
UID:{B75BCACF-885C-4247-92B4F6D93275690A}
LOCATION:
SUMMARY:Ask the Expert – Presenting the Victoria Falls Safari Collection
DESCRIPTION:Join us for another informative webinar where our Sales Executive, Wendy Bourne, will guide you through the Victoria Falls Safari Collection, a superb portfolio of properties offering exceptional hospitality in Victoria Falls, Zimbabwe.\n
 \n
 Event details: https://atta.travel/events/ems-events-calendar/ask-the-expert-presenting-the-victoria-falls-safari-collection.html
PRIORITY:1
END:VEVENT
END:VCALENDAR