BEGIN:VCALENDAR
PRODID:-//Pixl8//Eventfolio//EN
VERSION:2.0
X-WR-TIMEZONE:Europe/London
CALSCALE:GREGORIAN
METHOD:PUBLISH
CLASS:PUBLIC
BEGIN:VTIMEZONE
TZID:Europe/London
LAST-MODIFIED:20260306T231828Z
TZURL:https://www.tzurl.org/zoneinfo-outlook/Europe/London
X-LIC-LOCATION:Europe/London
BEGIN:DAYLIGHT
TZNAME:BST
TZOFFSETFROM:+0000
TZOFFSETTO:+0100
DTSTART:19700329T010000
RRULE:FREQ=YEARLY;BYMONTH=3;BYDAY=-1SU
END:DAYLIGHT
BEGIN:STANDARD
TZNAME:GMT
TZOFFSETFROM:+0100
TZOFFSETTO:+0000
DTSTART:19701025T020000
RRULE:FREQ=YEARLY;BYMONTH=10;BYDAY=-1SU
END:STANDARD
END:VTIMEZONE
BEGIN:VEVENT
DTSTART;TZID=Europe/London:20241024T140000
DTEND;TZID=Europe/London:20241024T144500
DTSTAMP:20260423T201846Z
UID:{6D58B7FD-390C-4953-A2FFEE4C34E28A47}
LOCATION:
SUMMARY:Asilia steps into Uganda - introducing Erebero Hills
DESCRIPTION:Asilia Africa has been a pioneer in nature-positive travel in East Africa for the past 20-plus years, being at the forefront of protecting and restoring vital natural landscapes\n
 \n
 Event details: https://atta.travel/events/ems-events-calendar/asilia-steps-into-uganda-introducing-erebero-hills.html
PRIORITY:1
END:VEVENT
END:VCALENDAR