BEGIN:VCALENDAR
PRODID:-//Pixl8//Eventfolio//EN
VERSION:2.0
X-WR-TIMEZONE:Europe/London
CALSCALE:GREGORIAN
METHOD:PUBLISH
CLASS:PUBLIC
BEGIN:VTIMEZONE
TZID:Europe/London
LAST-MODIFIED:20260306T231828Z
TZURL:https://www.tzurl.org/zoneinfo-outlook/Europe/London
X-LIC-LOCATION:Europe/London
BEGIN:DAYLIGHT
TZNAME:BST
TZOFFSETFROM:+0000
TZOFFSETTO:+0100
DTSTART:19700329T010000
RRULE:FREQ=YEARLY;BYMONTH=3;BYDAY=-1SU
END:DAYLIGHT
BEGIN:STANDARD
TZNAME:GMT
TZOFFSETFROM:+0100
TZOFFSETTO:+0000
DTSTART:19701025T020000
RRULE:FREQ=YEARLY;BYMONTH=10;BYDAY=-1SU
END:STANDARD
END:VTIMEZONE
BEGIN:VEVENT
DTSTART;TZID=Europe/London:20250311T100000
DTEND;TZID=Europe/London:20250311T104500
DTSTAMP:20260423T230641Z
UID:{212159E2-11C2-4F44-9D8802D1427301DC}
LOCATION:
SUMMARY:Addis & beyond, the world of Ethiopian Airlines 
DESCRIPTION:Join Darren who will be introducing himself to the ATTA® members as the contact for Ethiopian Airlines based in Manchester and will provide updates on Ethiopian’s summer schedule\n
 \n
 Event details: https://atta.travel/events/ems-events-calendar/addis-beyond-the-world-of-ethiopian-airlines.html
PRIORITY:1
END:VEVENT
END:VCALENDAR